BEGIN:VCALENDAR
VERSION:2.0
PRODID:-//KEKS - Kölner Eltern- und Kinderselbsthilfe e.V. - ECPv6.15.20//NONSGML v1.0//EN
CALSCALE:GREGORIAN
METHOD:PUBLISH
X-WR-CALNAME:KEKS - Kölner Eltern- und Kinderselbsthilfe e.V.
X-ORIGINAL-URL:https://keks-koeln.de
X-WR-CALDESC:Veranstaltungen für KEKS - Kölner Eltern- und Kinderselbsthilfe e.V.
REFRESH-INTERVAL;VALUE=DURATION:PT1H
X-Robots-Tag:noindex
X-PUBLISHED-TTL:PT1H
BEGIN:VTIMEZONE
TZID:Europe/Berlin
BEGIN:DAYLIGHT
TZOFFSETFROM:+0100
TZOFFSETTO:+0200
TZNAME:CEST
DTSTART:20250330T010000
END:DAYLIGHT
BEGIN:STANDARD
TZOFFSETFROM:+0200
TZOFFSETTO:+0100
TZNAME:CET
DTSTART:20251026T010000
END:STANDARD
BEGIN:DAYLIGHT
TZOFFSETFROM:+0100
TZOFFSETTO:+0200
TZNAME:CEST
DTSTART:20260329T010000
END:DAYLIGHT
BEGIN:STANDARD
TZOFFSETFROM:+0200
TZOFFSETTO:+0100
TZNAME:CET
DTSTART:20261025T010000
END:STANDARD
BEGIN:DAYLIGHT
TZOFFSETFROM:+0100
TZOFFSETTO:+0200
TZNAME:CEST
DTSTART:20270328T010000
END:DAYLIGHT
BEGIN:STANDARD
TZOFFSETFROM:+0200
TZOFFSETTO:+0100
TZNAME:CET
DTSTART:20271031T010000
END:STANDARD
END:VTIMEZONE
BEGIN:VEVENT
DTSTART;TZID=Europe/Berlin:20260422T143000
DTEND;TZID=Europe/Berlin:20260422T153000
DTSTAMP:20260422T015456
CREATED:20260212T125407Z
LAST-MODIFIED:20260212T130410Z
UID:17169-1776868200-1776871800@keks-koeln.de
SUMMARY:Digitale Infoveranstaltung Qualitätsmanagement
DESCRIPTION:Seit vielen Jahren nutzen zahlreiche Kitas\, die Mitglied beim KEKS (Kölner Eltern- und Kinderselbsthilfe e.V.) sind\, ein Qualitätsmanagement nach dem sogenannten pragma-indikatoren-modell (pim®). Dies ist ein eigens für Kitas entwickeltes QM\, dass anschlussfähig ist an die pädagogische Konzeption und die pädagogischen Fachkräfte in ihrem Arbeitsalltag unterstützt. Es erfüllt die aktuellen gesetzlichen Anforderungen an die Qualitätsentwicklung und das Qualitätsmanagement in Tageseinrichtungen für Kinder (siehe SGB VIII\, §74 und KiBiz NRW\, § 31). Weitere Informationen hier:  pim-kurz-erklaert. \nHat Ihre Einrichtung bislang noch kein Qualitätsmanagement oder sind Sie mit dem eingesetzten System unzufrieden? Sehr gerne möchten wir Sie in einer Informationsveranstaltung darüber informieren\, was die genauen Inhalte des pragma-indikatoren-modells (pim®) sind\, welche Kosten auf Sie zukommen würden und wieviel Zeit eine Einführung für Sie bedeuten würde. Dabei sind drei Varianten denkbar\, die alle den gesetzlichen Anforderungen entsprächen und jeweils in Gruppen aus mehreren Kitas durchgeführt werden könnten: \nFür Keks-Mitglieder: Einführung QM im Huckepack (ca. 1 Tag)\nFür Nicht-Mitglieder: Einführung in die Einstiegsvariante (ca. 5 Tage)\nFür alle: Erarbeitung eines eigenen QM-Handbuchs = Grundvariante (ca. 7 Tage) \nWir laden Sie herzlich zu zwei Online – Infoveranstaltungen ein. Alternativ am:\n22.04.2026\, 14.30 – max. 15.30 Uhr\n23.04.2026\, 19.30 – max. 20.30 Uhr \nWenn Sie an der unverbindlichen Infoveranstaltung teilnehmen möchten\, melden Sie sich bitte unter Nennung des Termines bis zum 10.04.26 bei claudia.rosemann@t-online.de an. Ihnen würde dann ein Zoom-Link zugehen.
URL:https://keks-koeln.de/veranstaltung/digitale-infoveranstaltung-qualitaetsmanagement/
CATEGORIES:Veranstaltungen
END:VEVENT
END:VCALENDAR